BEGIN:VCALENDAR
VERSION:2.0
PRODID:-//Celje Sv. Danijel - ECPv6.15.20//NONSGML v1.0//EN
CALSCALE:GREGORIAN
METHOD:PUBLISH
X-ORIGINAL-URL:https://celje-stolnica.si
X-WR-CALDESC:Dogodki za Celje Sv. Danijel
REFRESH-INTERVAL;VALUE=DURATION:PT1H
X-Robots-Tag:noindex
X-PUBLISHED-TTL:PT1H
BEGIN:VTIMEZONE
TZID:Europe/Helsinki
BEGIN:DAYLIGHT
TZOFFSETFROM:+0200
TZOFFSETTO:+0300
TZNAME:EEST
DTSTART:20240331T010000
END:DAYLIGHT
BEGIN:STANDARD
TZOFFSETFROM:+0300
TZOFFSETTO:+0200
TZNAME:EET
DTSTART:20241027T010000
END:STANDARD
BEGIN:DAYLIGHT
TZOFFSETFROM:+0200
TZOFFSETTO:+0300
TZNAME:EEST
DTSTART:20250330T010000
END:DAYLIGHT
BEGIN:STANDARD
TZOFFSETFROM:+0300
TZOFFSETTO:+0200
TZNAME:EET
DTSTART:20251026T010000
END:STANDARD
BEGIN:DAYLIGHT
TZOFFSETFROM:+0200
TZOFFSETTO:+0300
TZNAME:EEST
DTSTART:20260329T010000
END:DAYLIGHT
BEGIN:STANDARD
TZOFFSETFROM:+0300
TZOFFSETTO:+0200
TZNAME:EET
DTSTART:20261025T010000
END:STANDARD
END:VTIMEZONE
BEGIN:VEVENT
DTSTART;TZID=Europe/Helsinki:20250930T180000
DTEND;TZID=Europe/Helsinki:20250930T200000
DTSTAMP:20260421T114703
CREATED:20250711T192424Z
LAST-MODIFIED:20250711T192424Z
UID:7895-1759255200-1759262400@celje-stolnica.si
SUMMARY:Dobra knjiga
DESCRIPTION:Bralci dobre knjige si bomo privoščili poletno branje.  \nNaslednjič se dobimo v torek\, 30.9.2025\, ob 18. uri v župnišču.                                                                               \nIzmenjali si bomo misli o biografiji\, Leon XIV.\, nepričakovani naslednik. Knjiga je izšla 7 dni po izvolitvi novega papeža. Pisatelj Christophe Henning\, novinar časopisa La Croix in voditelj na radiu RCF-Radio Notre-Dame\, je za vedno ujel hipni posnetek ob zori pontifikata Leona XIV.\, ki si ga bomo vsi zapomnili kot enega najbolj radostnih doživetij\, kar jih je hkrati delila vesoljna Cerkev. Popiše dogajanje nekaj več kot 24 ur konklava\, ki je svetu dal nepričakovanega naslednika\, prvega ameriškega papeža\, in odzive na dni velikonočnega časa\, ki so nam po čustvenem slovesu od papeža Frančiška v svetem letu upanja prinesli tako radosten sprejem novega voditelja Cerkve. Knjiga je izšla pri celjski Mohorjevi družbi. \nPisateljica Tessa Afshar se  je rodila v Iranu v muslimanski družini. Pri dvajsetih se je spreobrnila v krščanstvo in študirala teologijo. Tokrat bomo brali njen roman Skriti princ. Pripoveduje o Keren\, hčeri judovskih ujetnikov v Babilonu\, ki se zaposli v Danielovi hiši\, da bi svoji družini omogočila preživetje. Zaradi svoje nadarjenosti in dedove vzgoje postane gospodarjeva osebna pisarka\, kmalu pa se prične celo šolati. Potem ko v njeno življenje usodno poseže tragična nesreča\, pa se nenadoma znajde v tuji deželi s skrivnostno nalogo\, da mlademu pastirčku nudi plemiško izobrazbo. Ko se izkaže\, kdo je pastirček v resnici\, se Keren zave\, da ga je treba obvarovati za vsako ceno\, saj od nje morda ni odvisno le dečkovo življenje\, temveč tudi usoda njenega ljudstva. Knjiga je izšla pri založbi Družina.
URL:https://celje-stolnica.si/dogodek/dobra-knjiga-2/
LOCATION:župnišče\, Slomškov trg 2\, Celje\, 3000\, Slovenia
CATEGORIES:Dobra knjiga
END:VEVENT
END:VCALENDAR